BEGIN:VCALENDAR
VERSION:2.0
CALSCALE:GREGORIAN
PRODID:-//NBMB//Terminplan//DE
BEGIN:VTIMEZONE
TZID:Europe/Berlin
X-LIC-LOCATION:Europe/Berlin
BEGIN:DAYLIGHT
TZOFFSETFROM:+0100
TZOFFSETTO:+0200
TZNAME:CEST
DTSTART:19700329T020000
RRULE:FREQ=YEARLY;INTERVAL=1;BYDAY=-1SU;BYMONTH=3
END:DAYLIGHT
BEGIN:STANDARD
TZOFFSETFROM:+0200
TZOFFSETTO:+0100
TZNAME:CEST
DTSTART:19701025T030000
RRULE:FREQ=YEARLY;INTERVAL=1;BYDAY=-1SU;BYMONTH=10
END:STANDARD
END:VTIMEZONE
BEGIN:VEVENT
UID:39F78A25-D7E0-1485-8140-1B28F06B6F9D
DTSTART;TZID=Europe/Berlin:20260726T163000
DTEND;TZID=Europe/Berlin:20260726T163000
SUMMARY:Sommer Serenade
LOCATION:Vereinsheim des Stiftländer Heimatvereins Wiesau, Bahnhofstraße 38, 95676 Wiesau
END:VEVENT
END:VCALENDAR
