BEGIN:VCALENDAR
VERSION:2.0
CALSCALE:GREGORIAN
PRODID:-//NBMB//Terminplan//DE
BEGIN:VTIMEZONE
TZID:Europe/Berlin
X-LIC-LOCATION:Europe/Berlin
BEGIN:DAYLIGHT
TZOFFSETFROM:+0100
TZOFFSETTO:+0200
TZNAME:CEST
DTSTART:19700329T020000
RRULE:FREQ=YEARLY;INTERVAL=1;BYDAY=-1SU;BYMONTH=3
END:DAYLIGHT
BEGIN:STANDARD
TZOFFSETFROM:+0200
TZOFFSETTO:+0100
TZNAME:CEST
DTSTART:19701025T030000
RRULE:FREQ=YEARLY;INTERVAL=1;BYDAY=-1SU;BYMONTH=10
END:STANDARD
END:VTIMEZONE
BEGIN:VEVENT
UID:341DF1A5-1C38-A423-EAD4-174C904FFA2D
DTSTART;TZID=Europe/Berlin:20260524T130000
DTEND;TZID=Europe/Berlin:20260524T130000
SUMMARY:Kreismusikfest mit Sternmarsch, Gesamtspiel, 50 Jahre Blaskapelle Reuth, Dorfplatz Röthenbach a. St.
LOCATION:Röthenbach am Steinwald, Dorfplatz
END:VEVENT
END:VCALENDAR
