BEGIN:VCALENDAR
VERSION:2.0
CALSCALE:GREGORIAN
PRODID:-//NBMB//Terminplan//DE
BEGIN:VTIMEZONE
TZID:Europe/Berlin
X-LIC-LOCATION:Europe/Berlin
BEGIN:DAYLIGHT
TZOFFSETFROM:+0100
TZOFFSETTO:+0200
TZNAME:CEST
DTSTART:19700329T020000
RRULE:FREQ=YEARLY;INTERVAL=1;BYDAY=-1SU;BYMONTH=3
END:DAYLIGHT
BEGIN:STANDARD
TZOFFSETFROM:+0200
TZOFFSETTO:+0100
TZNAME:CEST
DTSTART:19701025T030000
RRULE:FREQ=YEARLY;INTERVAL=1;BYDAY=-1SU;BYMONTH=10
END:STANDARD
END:VTIMEZONE
BEGIN:VEVENT
UID:4ECCE8DD-018B-6033-A758-42E2FAB6EDAA
DTSTART;TZID=Europe/Berlin:20261011T170000
DTEND;TZID=Europe/Berlin:20261011T170000
SUMMARY:Kirchenkonzert in der Herz-Jesu-Kirche Pegnitz
LOCATION:Pegnitz, Herz-Jesu-Kirche
END:VEVENT
END:VCALENDAR
