BEGIN:VCALENDAR
VERSION:2.0
CALSCALE:GREGORIAN
PRODID:-//NBMB//Terminplan//DE
BEGIN:VTIMEZONE
TZID:Europe/Berlin
X-LIC-LOCATION:Europe/Berlin
BEGIN:DAYLIGHT
TZOFFSETFROM:+0100
TZOFFSETTO:+0200
TZNAME:CEST
DTSTART:19700329T020000
RRULE:FREQ=YEARLY;INTERVAL=1;BYDAY=-1SU;BYMONTH=3
END:DAYLIGHT
BEGIN:STANDARD
TZOFFSETFROM:+0200
TZOFFSETTO:+0100
TZNAME:CEST
DTSTART:19701025T030000
RRULE:FREQ=YEARLY;INTERVAL=1;BYDAY=-1SU;BYMONTH=10
END:STANDARD
END:VTIMEZONE
BEGIN:VEVENT
UID:45B8ECDF-D3DA-A945-5F36-CD6437A6BF92
DTSTART;TZID=Europe/Berlin:20261121T180000
DTEND;TZID=Europe/Berlin:20261121T180000
SUMMARY:Kirchenkonzert I - SBO Unterpleichfeld
LOCATION:Kloster Oberzell (Gemeinde Zell am Main bei Würzburg)
END:VEVENT
END:VCALENDAR
