BEGIN:VCALENDAR
VERSION:2.0
CALSCALE:GREGORIAN
PRODID:-//NBMB//Terminplan//DE
BEGIN:VTIMEZONE
TZID:Europe/Berlin
X-LIC-LOCATION:Europe/Berlin
BEGIN:DAYLIGHT
TZOFFSETFROM:+0100
TZOFFSETTO:+0200
TZNAME:CEST
DTSTART:19700329T020000
RRULE:FREQ=YEARLY;INTERVAL=1;BYDAY=-1SU;BYMONTH=3
END:DAYLIGHT
BEGIN:STANDARD
TZOFFSETFROM:+0200
TZOFFSETTO:+0100
TZNAME:CEST
DTSTART:19701025T030000
RRULE:FREQ=YEARLY;INTERVAL=1;BYDAY=-1SU;BYMONTH=10
END:STANDARD
END:VTIMEZONE
BEGIN:VEVENT
UID:B81012B3-731E-64A2-96FF-355660839893
DTSTART;TZID=Europe/Berlin:20260913T190000
DTEND;TZID=Europe/Berlin:20260913T190000
SUMMARY:Abendserenade am Erweinstollen mit Bergmänn. Zapfenstreich
LOCATION:Pegnitz, Industriedenkmal Erweinstollen, kleiner Johannes 10
END:VEVENT
END:VCALENDAR
